BEGIN:VCALENDAR
VERSION:2.0
PRODID:-//Uganda Women&#039;s Water Initiative - ECPv6.6.1//NONSGML v1.0//EN
CALSCALE:GREGORIAN
METHOD:PUBLISH
X-WR-CALNAME:Uganda Women&#039;s Water Initiative
X-ORIGINAL-URL:https://ugandawomenswaterinitiative.org
X-WR-CALDESC:Events for Uganda Women&#039;s Water Initiative
REFRESH-INTERVAL;VALUE=DURATION:PT1H
X-Robots-Tag:noindex
X-PUBLISHED-TTL:PT1H
BEGIN:VTIMEZONE
TZID:UTC
BEGIN:STANDARD
TZOFFSETFROM:+0000
TZOFFSETTO:+0000
TZNAME:UTC
DTSTART:20240101T000000
END:STANDARD
END:VTIMEZONE
BEGIN:VEVENT
DTSTART;TZID=UTC:20241201T080000
DTEND;TZID=UTC:20241201T170000
DTSTAMP:20260421T022208
CREATED:20200529T091400Z
LAST-MODIFIED:20231020T143728Z
UID:358-1733040000-1733072400@ugandawomenswaterinitiative.org
SUMMARY:Outcome harvesting from Eco-Entrepreneurs.
DESCRIPTION:Uganda Women’s Water Initiative (UWWI) \, is a women-led organization that was founded to co-create WASH solutions with host communities with the main purpose of turning women from WASH burden bearers to WASH solutions providers through capacity building\, Financial Inclusion\, and community self-help initiatives. \nThe organization’s four thematic areas are Biointensive Farming\, Environmental Protection and Conservation\, Climate Smart Technologies\, and Advocacy and Entrepreneurship. These programs are designed by women to alleviate problems for the most at-risk women\, for whom the root causes of their day-to-day struggles are complex and cannot be solved with any single point-in-time solution.
URL:https://ugandawomenswaterinitiative.org/event/funds-research/
LOCATION:UWWI\, Kanoni Town Council\, Uganda
CATEGORIES:Donations
ORGANIZER;CN="Mambo Ibrahim -Program Coordinator":MAILTO:mamboibrah@gmail.com
END:VEVENT
END:VCALENDAR